BEGIN:VCALENDAR
VERSION:2.0
PRODID:-//jEvents 2.0 for Joomla//EN
CALSCALE:GREGORIAN
METHOD:PUBLISH
BEGIN:VEVENT
UID:472a68cef9dd0bdda2429a5316529e0d
CATEGORIES:Ausgleichssport
CREATED:20200925T183413
SUMMARY:Weihnachtsferien - kein Training
DESCRIPTION:
DTSTAMP:20260423T131543
DTSTART;VALUE=DATE:20211223
DTEND;VALUE=DATE:20220109
SEQUENCE:0
TRANSP:OPAQUE
END:VEVENT
END:VCALENDAR