BEGIN:VCALENDAR
VERSION:2.0
PRODID:-//jEvents 2.0 for Joomla//EN
CALSCALE:GREGORIAN
METHOD:PUBLISH
BEGIN:VEVENT
UID:1554570eafad4e79a3eec393ad3f8213
CATEGORIES:Ausgleichssport
CREATED:20251025T115444
SUMMARY:Herbstwanderung 2025
DESCRIPTION:
DTSTAMP:20260425T112747
DTSTART:20251116T070000
SEQUENCE:0
TRANSP:OPAQUE
END:VEVENT
END:VCALENDAR