BEGIN:VCALENDAR
VERSION:2.0
PRODID:-//jEvents 2.0 for Joomla//EN
CALSCALE:GREGORIAN
METHOD:PUBLISH
BEGIN:VEVENT
UID:999b591484ea1bf0f9ce5854fef6b856
CATEGORIES:Ausgleichssport
CREATED:20221129T133655
SUMMARY:Osterferien - Kein Training
DESCRIPTION:
DTSTAMP:20260422T123348
DTSTART;VALUE=DATE:20240323
DTEND;VALUE=DATE:20240406
SEQUENCE:0
TRANSP:OPAQUE
END:VEVENT
END:VCALENDAR