BEGIN:VCALENDAR
VERSION:2.0
PRODID:-//jEvents 2.0 for Joomla//EN
CALSCALE:GREGORIAN
METHOD:PUBLISH
BEGIN:VEVENT
UID:151423ded7d8f20cb5321484ebc4a48f
CATEGORIES:Ausgleichssport
CREATED:20221129T133734
SUMMARY:Pfingstferien - Kein Training
DESCRIPTION:
DTSTAMP:20260422T152606
DTSTART;VALUE=DATE:20240521
DTEND;VALUE=DATE:20240601
SEQUENCE:0
TRANSP:OPAQUE
END:VEVENT
END:VCALENDAR