BEGIN:VCALENDAR
VERSION:2.0
PRODID:-//jEvents 2.0 for Joomla//EN
CALSCALE:GREGORIAN
METHOD:PUBLISH
BEGIN:VEVENT
UID:e1997c07c260d9d756737d1d653a46a6
CATEGORIES:TSV Veranstaltungen
CREATED:20231115T164031
SUMMARY:Dance Matinee
LOCATION:Sporthalle Berkheim
DESCRIPTION:
DTSTAMP:20260422T102918
DTSTART:20240317T150000
DTEND:20240317T170000
SEQUENCE:0
TRANSP:OPAQUE
END:VEVENT
END:VCALENDAR