BEGIN:VCALENDAR
VERSION:2.0
PRODID:-//jEvents 2.0 for Joomla//EN
CALSCALE:GREGORIAN
METHOD:PUBLISH
BEGIN:VEVENT
UID:85bdff82e593569e10233781750450f7
CATEGORIES:TSV Veranstaltungen
CREATED:20231116T085958
SUMMARY:Mitarbeiter Barbecue
LOCATION:Waldheim Berkheim
DESCRIPTION:
DTSTAMP:20260422T084201
DTSTART:20240913T160000
DTEND:20240913T210000
SEQUENCE:0
TRANSP:OPAQUE
END:VEVENT
END:VCALENDAR