BEGIN:VCALENDAR
VERSION:2.0
PRODID:-//jEvents 2.0 for Joomla//EN
CALSCALE:GREGORIAN
METHOD:PUBLISH
BEGIN:VEVENT
UID:4f04045788d89b8ba1785fa16999b97b
CATEGORIES:TSV Veranstaltungen
CREATED:20231116T091306
SUMMARY:Deutschlandpokal Kunstturnen
LOCATION:Sporthalle Berkheim
DESCRIPTION:
DTSTAMP:20260423T165618
DTSTART;VALUE=DATE:20241019
DTEND;VALUE=DATE:20241021
SEQUENCE:0
TRANSP:OPAQUE
END:VEVENT
END:VCALENDAR