BEGIN:VCALENDAR
VERSION:2.0
PRODID:-//jEvents 2.0 for Joomla//EN
CALSCALE:GREGORIAN
METHOD:PUBLISH
BEGIN:VEVENT
UID:85ccc1185ec43882b16a68da30ec4c65
CATEGORIES:TSV Veranstaltungen
CREATED:20231116T091940
SUMMARY:Seniorennachmittag mit Jubilarsehrung
LOCATION:Waldheim Berkheim
DESCRIPTION:
DTSTAMP:20260422T133223
DTSTART:20241123T133000
DTEND:20241123T190000
SEQUENCE:0
TRANSP:OPAQUE
END:VEVENT
END:VCALENDAR