BEGIN:VCALENDAR
VERSION:2.0
PRODID:-//jEvents 2.0 for Joomla//EN
CALSCALE:GREGORIAN
METHOD:PUBLISH
BEGIN:VEVENT
UID:6e90e5e585d133cd3f9c65a7d640000a
CATEGORIES:TSV Veranstaltungen
CREATED:20240723T135007
SUMMARY:Fußball-Bezirksliga 9.Spieltag: TSV Berkheim-TSV Jesingen
DESCRIPTION:
DTSTAMP:20260425T112757
DTSTART:20241013T133000
SEQUENCE:0
TRANSP:OPAQUE
END:VEVENT
END:VCALENDAR