BEGIN:VCALENDAR
VERSION:2.0
PRODID:-//jEvents 2.0 for Joomla//EN
CALSCALE:GREGORIAN
METHOD:PUBLISH
BEGIN:VEVENT
UID:41e85f60f1c6b2c6320d0720517612f6
CATEGORIES:TSV Veranstaltungen
CREATED:20240723T135305
SUMMARY:Fußball-Bezirksliga 11.Spieltag: TSV Berkheim-1.FC Donzdorf
DESCRIPTION:
DTSTAMP:20260425T112930
DTSTART:20241027T143000
SEQUENCE:0
TRANSP:OPAQUE
END:VEVENT
END:VCALENDAR