BEGIN:VCALENDAR
VERSION:2.0
PRODID:-//jEvents 2.0 for Joomla//EN
CALSCALE:GREGORIAN
METHOD:PUBLISH
BEGIN:VEVENT
UID:aeeb4fde76b5065bbdfda80414b3d52f
CATEGORIES:TSV Veranstaltungen
CREATED:20250714T134603
SUMMARY:Fußball EZ-Pokal in Reichenbach: Berkheim - Sirnau
DESCRIPTION:
DTSTAMP:20260425T112624
DTSTART:20250731T160000
SEQUENCE:0
TRANSP:OPAQUE
END:VEVENT
END:VCALENDAR