BEGIN:VCALENDAR
VERSION:2.0
PRODID:-//jEvents 2.0 for Joomla//EN
CALSCALE:GREGORIAN
METHOD:PUBLISH
BEGIN:VEVENT
UID:8f859b42925b668f157e02357e93c61c
CATEGORIES:TSV Veranstaltungen
CREATED:20251126T093438
SUMMARY:SWE Völkerballturnier der Jugendleitung
DESCRIPTION:<p>Sportgelände Holzäcker</p>
DTSTAMP:20260423T125336
DTSTART:20260710T150000
SEQUENCE:0
TRANSP:OPAQUE
END:VEVENT
END:VCALENDAR