BEGIN:VCALENDAR
VERSION:2.0
PRODID:-//jEvents 2.0 for Joomla//EN
CALSCALE:GREGORIAN
METHOD:PUBLISH
BEGIN:VEVENT
UID:afcb310efc26ad4eb4f23388e9cd094b
CATEGORIES:TSV Veranstaltungen
CREATED:20251126T093609
SUMMARY:Fußball Sportwoche
DESCRIPTION:Sportgelände Holzäcker\n
X-ALT-DESC;FMTTYPE=text/html:<p>Sportgelände Holzäcker</p>
DTSTAMP:20260421T124000
DTSTART;VALUE=DATE:20260710
DTEND;VALUE=DATE:20260713
SEQUENCE:0
TRANSP:OPAQUE
END:VEVENT
END:VCALENDAR